0.00959245161576703
0.000000
0.000000
-0.00959245161576703
-84.7329398692738
44.0461261679909
