0.00791354092684661
0.000000
0.000000
-0.00791354092684661
-84.0731084372781
26.7692671064897
