0.00982801957563922
0.000000
0.000000
-0.00982801957563922
-81.6804913746227
45.6467926857688
