0.00967362837357953
0.000000
0.000000
-0.00967362837357953
-74.0352521861683
44.6114122702859
