0.00946069890802557
0.000000
0.000000
-0.00946069890802557
-127.124479689165
43.0959623995694
