0.00932292591441761
0.000000
0.000000
-0.00932292591441761
-124.424220095548
42.055141546076
