0.00900662508877839
0.000000
0.000000
-0.00900662508877839
-79.7054874489524
39.4563197465376
