0.0166943914240057
0.000000
0.000000
-0.0166943914240057
-170.292969499068
69.0946114834872
