0.0131488591974432
0.000000
0.000000
-0.0131488591974432
-139.466083207564
60.4623624905673
