0.0145454545454545
0.000000
0.000000
-0.0145454545454545
-119.012361866344
36.487726204612
