0.0145454545454545
0.000000
0.000000
-0.0145454545454545
-92.0803626598011
42.2527255942605
