0.0145454545454545
0.000000
0.000000
-0.0145454545454545
-123.535364490856
38.4047260215066
