0.0145454545454545
0.000000
0.000000
-0.0145454545454545
-102.484361988414
40.7337284018777
