0.0145454545454545
0.000000
0.000000
-0.0145454545454545
-124.752367359508
38.830728523948
