0.0145454545454545
0.000000
0.000000
-0.0145454545454545
-87.3583625377308
34.8827266623757
