0.0145454545454545
0.000000
0.000000
-0.0145454545454545
-102.798364979137
44.3137264182351
