0.0145454545454545
0.000000
0.000000
-0.0145454545454545
-107.185366016735
48.1177272727273
