0.0145454545454545
0.000000
0.000000
-0.0145454545454545
-80.0363639415394
47.7487277915261
