0.0145454545454545
0.000000
0.000000
-0.0145454545454545
-100.588365894664
42.9897289206765
