0.0145454545454545
0.000000
0.000000
-0.0145454545454545
-101.634363514293
39.3257274558327
