0.0145454545454545
0.000000
0.000000
-0.0145454545454545
-88.6853660167347
34.3907279898904
