0.0145454545454545
0.000000
0.000000
-0.0145454545454545
-115.741365772594
51.4527263571999
