0.0145454545454545
0.000000
0.000000
-0.0145454545454545
-86.7583640636097
31.6977271964333
