0.0145454545454545
0.000000
0.000000
-0.0145454545454545
-98.7183631480824
39.2837276389382
