0.0145454545454545
0.000000
0.000000
-0.0145454545454545
-121.991365772594
37.8107280661843
