0.0145454545454545
0.000000
0.000000
-0.0145454545454545
-104.8483604015
35.3637275626443
