0.0145454545454545
0.000000
0.000000
-0.0145454545454545
-98.1973670543324
36.4437274863503
