0.0145454545454545
0.000000
0.000000
-0.0145454545454545
-97.7563651622425
41.2277278830788
