0.0145454545454545
0.000000
0.000000
-0.0145454545454545
-117.041361194957
47.0987262656472
