0.0145454545454545
0.000000
0.000000
-0.0145454545454545
-86.0793632091175
42.3037280967019
