0.0145454545454545
0.000000
0.000000
-0.0145454545454545
-112.833361011852
47.0587291648171
