0.0145454545454545
0.000000
0.000000
-0.0145454545454545
-123.81736217152
43.7467288901589
