0.0145454545454545
0.000000
0.000000
-0.0145454545454545
-82.8463615001332
39.6577281882546
