0.0145454545454545
0.000000
0.000000
-0.0145454545454545
-108.537363392223
42.4517269065163
