0.0145454545454545
0.000000
0.000000
-0.0145454545454545
-97.3323615611683
35.1477279593728
