0.0145454545454545
0.000000
0.000000
-0.0145454545454545
-123.208361011852
49.6837291648171
