0.0145454545454545
0.000000
0.000000
-0.0145454545454545
-84.5743659556996
44.5237255027077
