0.0145454545454545
0.000000
0.000000
-0.0145454545454545
-93.1283668101918
41.0607280661843
