0.0145454545454545
0.000000
0.000000
-0.0145454545454545
-121.982363087047
51.6737270285866
