0.0145454545454545
0.000000
0.000000
-0.0145454545454545
-90.9193671764027
40.2397289206765
