0.0145454545454545
0.000000
0.000000
-0.0145454545454545
-100.722360950817
45.3127269675515
