0.0145454545454545
0.000000
0.000000
-0.0145454545454545
-94.2293647349965
39.3377284934304
