0.0145454545454545
0.000000
0.000000
-0.0145454545454545
-121.397364002575
36.911725990989
