0.0145454545454545
0.000000
0.000000
-0.0145454545454545
-90.146364551891
36.5297260215066
