0.0145454545454545
0.000000
0.000000
-0.0145454545454545
-101.681360584606
51.520727150657
