0.0145454545454545
0.000000
0.000000
-0.0145454545454545
-116.803362232555
45.2557277610085
