0.0145454545454545
0.000000
0.000000
-0.0145454545454545
-118.342363697399
51.0337276389382
