0.0145454545454545
0.000000
0.000000
-0.0145454545454545
-87.7583640636097
40.1607265403054
