0.0145454545454545
0.000000
0.000000
-0.0145454545454545
-91.9043601573597
50.5237255027077
