0.0145454545454545
0.000000
0.000000
-0.0145454545454545
-85.0103629649769
32.1057281424782
